Package: DART Version: 1.52.0 Command: /home/biocbuild/R/R-beta-2024-04-15_r86425/bin/R CMD build --keep-empty-dirs --no-resave-data DART StartedAt: 2024-05-08 23:43:35 -0000 (Wed, 08 May 2024) EndedAt: 2024-05-08 23:45:23 -0000 (Wed, 08 May 2024) EllapsedTime: 108.1 seconds RetCode: 0 Status: OK PackageFile: DART_1.52.0.tar.gz PackageFileSize: 1.983 MiB