Package: DAPAR Version: 1.36.3 Command: E:\biocbuild\bbs-3.19-bioc\R\bin\R.exe CMD INSTALL DAPAR StartedAt: 2024-10-16 16:54:01 -0400 (Wed, 16 Oct 2024) EndedAt: 2024-10-16 16:55:28 -0400 (Wed, 16 Oct 2024) EllapsedTime: 87.1 seconds RetCode: 0 Status: OK