Package: DAPAR Version: 1.36.3 Command: E:\biocbuild\bbs-3.19-bioc\R\bin\R.exe CMD check --no-multiarch --install=check:DAPAR.install-out.txt --library=E:\biocbuild\bbs-3.19-bioc\R\library --no-vignettes --timings DAPAR_1.36.3.tar.gz StartedAt: 2024-10-17 00:35:40 -0400 (Thu, 17 Oct 2024) EndedAt: 2024-10-17 00:45:16 -0400 (Thu, 17 Oct 2024) EllapsedTime: 576.0 seconds RetCode: 0 Status: OK CheckDir: DAPAR.Rcheck Warnings: 0