Package: DAPAR Version: 1.36.3 Command: chmod a+r DAPAR -R && E:\biocbuild\bbs-3.19-bioc\R\bin\R.exe CMD build --keep-empty-dirs --no-resave-data DAPAR StartedAt: 2024-10-16 18:32:03 -0400 (Wed, 16 Oct 2024) EndedAt: 2024-10-16 18:32:12 -0400 (Wed, 16 Oct 2024) EllapsedTime: 9.0 seconds RetCode: 0 Status: OK PackageFile: DAPAR_1.36.3.tar.gz PackageFileSize: 150.4 KiB