Package: DAPAR Version: 1.36.3 Command: rm -rf DAPAR.buildbin-libdir && mkdir DAPAR.buildbin-libdir && E:\biocbuild\bbs-3.19-bioc\R\bin\R.exe CMD INSTALL --build --library=DAPAR.buildbin-libdir DAPAR_1.36.3.tar.gz StartedAt: 2024-10-17 07:38:37 -0400 (Thu, 17 Oct 2024) EndedAt: 2024-10-17 07:40:11 -0400 (Thu, 17 Oct 2024) EllapsedTime: 94.4 seconds RetCode: 0 Status: OK PackageFile: DAPAR_1.36.3.zip PackageFileSize: 715.8 KiB