Package: DAPAR Version: 1.36.3 Command: /Library/Frameworks/R.framework/Resources/bin/R CMD INSTALL DAPAR StartedAt: 2024-10-16 16:12:57 -0400 (Wed, 16 Oct 2024) EndedAt: 2024-10-16 16:14:31 -0400 (Wed, 16 Oct 2024) EllapsedTime: 93.9 seconds RetCode: 0 Status: OK