Package: DAPAR Version: 1.36.3 Command: /Library/Frameworks/R.framework/Resources/bin/R CMD build --keep-empty-dirs --no-resave-data DAPAR StartedAt: 2024-10-16 18:27:16 -0400 (Wed, 16 Oct 2024) EndedAt: 2024-10-16 18:27:21 -0400 (Wed, 16 Oct 2024) EllapsedTime: 4.4 seconds RetCode: 0 Status: OK PackageFile: DAPAR_1.36.3.tar.gz PackageFileSize: 150.5 KiB