Package: DAPAR Version: 1.36.1 Command: /Library/Frameworks/R.framework/Resources/bin/R CMD INSTALL DAPAR StartedAt: 2024-06-09 15:30:00 -0400 (Sun, 09 Jun 2024) EndedAt: 2024-06-09 15:30:52 -0400 (Sun, 09 Jun 2024) EllapsedTime: 51.3 seconds RetCode: 0 Status: OK