Package: DAPAR Version: 1.36.1 Command: /Library/Frameworks/R.framework/Resources/bin/R CMD check --install=check:DAPAR.install-out.txt --library=/Library/Frameworks/R.framework/Resources/library --no-vignettes --timings DAPAR_1.36.1.tar.gz StartedAt: 2024-06-09 19:49:10 -0400 (Sun, 09 Jun 2024) EndedAt: 2024-06-09 19:58:58 -0400 (Sun, 09 Jun 2024) EllapsedTime: 587.9 seconds RetCode: 0 Status: OK CheckDir: DAPAR.Rcheck Warnings: 0