Package: DAPAR Version: 1.36.3 Command: rm -rf DAPAR.buildbin-libdir && mkdir DAPAR.buildbin-libdir && /Users/biocbuild/BBS/utils/build-universal.sh DAPAR_1.36.3.tar.gz /Library/Frameworks/R.framework/Resources/bin/R DAPAR.buildbin-libdir StartedAt: 2024-10-18 18:05:25 -0400 (Fri, 18 Oct 2024) EndedAt: 2024-10-18 18:06:25 -0400 (Fri, 18 Oct 2024) EllapsedTime: 59.1 seconds RetCode: 0 Status: OK PackageFile: DAPAR_1.36.3.tgz PackageFileSize: 703.4 KiB