Package: DAMEfinder Version: 1.16.0 Command: chmod a+r DAMEfinder -R && E:\biocbuild\bbs-3.19-bioc\R\bin\R.exe CMD build --keep-empty-dirs --no-resave-data DAMEfinder StartedAt: 2024-10-16 18:31:30 -0400 (Wed, 16 Oct 2024) EndedAt: 2024-10-16 18:33:57 -0400 (Wed, 16 Oct 2024) EllapsedTime: 147.6 seconds RetCode: 0 Status: OK PackageFile: DAMEfinder_1.16.0.tar.gz PackageFileSize: 3.057 MiB