Package: DAMEfinder Version: 1.16.0 Command: rm -rf DAMEfinder.buildbin-libdir && mkdir DAMEfinder.buildbin-libdir && E:\biocbuild\bbs-3.19-bioc\R\bin\R.exe CMD INSTALL --build --library=DAMEfinder.buildbin-libdir DAMEfinder_1.16.0.tar.gz StartedAt: 2024-10-17 07:38:32 -0400 (Thu, 17 Oct 2024) EndedAt: 2024-10-17 07:39:15 -0400 (Thu, 17 Oct 2024) EllapsedTime: 43.9 seconds RetCode: 0 Status: OK PackageFile: DAMEfinder_1.16.0.zip PackageFileSize: 3.152 MiB