Package: DAMEfinder Version: 1.16.0 Command: /Library/Frameworks/R.framework/Resources/bin/R CMD build --keep-empty-dirs --no-resave-data DAMEfinder StartedAt: 2024-10-16 18:26:28 -0400 (Wed, 16 Oct 2024) EndedAt: 2024-10-16 18:32:26 -0400 (Wed, 16 Oct 2024) EllapsedTime: 357.6 seconds RetCode: 0 Status: OK PackageFile: DAMEfinder_1.16.0.tar.gz PackageFileSize: 4.953 MiB