Package: DAMEfinder Version: 1.16.0 Command: /home/biocbuild/R/R-beta-2024-04-15_r86425/bin/R CMD build --keep-empty-dirs --no-resave-data DAMEfinder StartedAt: 2024-05-08 23:42:47 -0000 (Wed, 08 May 2024) EndedAt: 2024-05-08 23:45:56 -0000 (Wed, 08 May 2024) EllapsedTime: 189.2 seconds RetCode: 0 Status: OK PackageFile: DAMEfinder_1.16.0.tar.gz PackageFileSize: 3.579 MiB