Package: CytoPipelineGUI Version: 1.2.0 Command: chmod a+r CytoPipelineGUI -R && E:\biocbuild\bbs-3.19-bioc\R\bin\R.exe CMD build --keep-empty-dirs --no-resave-data CytoPipelineGUI StartedAt: 2024-10-16 18:30:47 -0400 (Wed, 16 Oct 2024) EndedAt: 2024-10-16 18:32:02 -0400 (Wed, 16 Oct 2024) EllapsedTime: 74.7 seconds RetCode: 0 Status: OK PackageFile: CytoPipelineGUI_1.2.0.tar.gz PackageFileSize: 978.5 KiB