Package: CytoPipelineGUI Version: 1.2.0 Command: rm -rf CytoPipelineGUI.buildbin-libdir && mkdir CytoPipelineGUI.buildbin-libdir && F:\biocbuild\bbs-3.19-bioc\R\bin\R.exe CMD INSTALL --build --library=CytoPipelineGUI.buildbin-libdir CytoPipelineGUI_1.2.0.tar.gz StartedAt: 2024-06-27 08:04:47 -0400 (Thu, 27 Jun 2024) EndedAt: 2024-06-27 08:05:13 -0400 (Thu, 27 Jun 2024) EllapsedTime: 26.0 seconds RetCode: 0 Status: OK PackageFile: CytoPipelineGUI_1.2.0.zip PackageFileSize: 864.2 KiB