Package: CytoPipelineGUI Version: 1.2.0 Command: /home/biocbuild/bbs-3.19-bioc/R/bin/R CMD build --keep-empty-dirs --no-resave-data CytoPipelineGUI StartedAt: 2024-10-16 18:03:56 -0400 (Wed, 16 Oct 2024) EndedAt: 2024-10-16 18:04:40 -0400 (Wed, 16 Oct 2024) EllapsedTime: 44.1 seconds RetCode: 0 Status: OK PackageFile: CytoPipelineGUI_1.2.0.tar.gz PackageFileSize: 1.424 MiB