Package: CytoPipelineGUI Version: 1.2.0 Command: /Library/Frameworks/R.framework/Resources/bin/R CMD build --keep-empty-dirs --no-resave-data CytoPipelineGUI StartedAt: 2024-10-16 18:25:55 -0400 (Wed, 16 Oct 2024) EndedAt: 2024-10-16 18:27:49 -0400 (Wed, 16 Oct 2024) EllapsedTime: 114.7 seconds RetCode: 0 Status: OK PackageFile: CytoPipelineGUI_1.2.0.tar.gz PackageFileSize: 2.002 MiB