Package: CytoPipeline Version: 1.4.0 Command: /home/biocbuild/bbs-3.19-bioc/R/bin/R CMD check --install=check:CytoPipeline.install-out.txt --library=/home/biocbuild/bbs-3.19-bioc/R/site-library --timings CytoPipeline_1.4.0.tar.gz StartedAt: 2024-10-16 23:24:45 -0400 (Wed, 16 Oct 2024) EndedAt: 2024-10-16 23:30:00 -0400 (Wed, 16 Oct 2024) EllapsedTime: 314.6 seconds RetCode: 0 Status: OK CheckDir: CytoPipeline.Rcheck Warnings: 0