Package: CytoPipeline Version: 1.4.0 Command: /Library/Frameworks/R.framework/Resources/bin/R CMD build --keep-empty-dirs --no-resave-data CytoPipeline StartedAt: 2024-06-09 20:14:13 -0400 (Sun, 09 Jun 2024) EndedAt: 2024-06-09 20:15:51 -0400 (Sun, 09 Jun 2024) EllapsedTime: 98.0 seconds RetCode: 0 Status: OK PackageFile: CytoPipeline_1.4.0.tar.gz PackageFileSize: 3.343 MiB