Package: CytoPipeline Version: 1.4.0 Command: rm -rf CytoPipeline.buildbin-libdir && mkdir CytoPipeline.buildbin-libdir && /Users/biocbuild/BBS/utils/build-universal.sh CytoPipeline_1.4.0.tar.gz /Library/Frameworks/R.framework/Resources/bin/R CytoPipeline.buildbin-libdir StartedAt: 2024-06-11 10:50:05 -0400 (Tue, 11 Jun 2024) EndedAt: 2024-06-11 10:50:36 -0400 (Tue, 11 Jun 2024) EllapsedTime: 30.9 seconds RetCode: 0 Status: OK PackageFile: CytoPipeline_1.4.0.tgz PackageFileSize: 3.516 MiB