Package: CytoPipeline Version: 1.4.0 Command: /Library/Frameworks/R.framework/Resources/bin/R CMD INSTALL CytoPipeline StartedAt: 2024-10-16 17:25:29 -0400 (Wed, 16 Oct 2024) EndedAt: 2024-10-16 17:25:46 -0400 (Wed, 16 Oct 2024) EllapsedTime: 17.6 seconds RetCode: 0 Status: OK