Package: CytoML Version: 2.16.0 Command: E:\biocbuild\bbs-3.19-bioc\R\bin\R.exe CMD INSTALL CytoML StartedAt: 2024-10-16 16:25:50 -0400 (Wed, 16 Oct 2024) EndedAt: 2024-10-16 16:27:14 -0400 (Wed, 16 Oct 2024) EllapsedTime: 84.5 seconds RetCode: 0 Status: OK