Package: CytoML Version: 2.16.0 Command: chmod a+r CytoML -R && E:\biocbuild\bbs-3.19-bioc\R\bin\R.exe CMD build --keep-empty-dirs --no-resave-data CytoML StartedAt: 2024-10-16 18:30:39 -0400 (Wed, 16 Oct 2024) EndedAt: 2024-10-16 18:33:31 -0400 (Wed, 16 Oct 2024) EllapsedTime: 172.6 seconds RetCode: 0 Status: OK PackageFile: CytoML_2.16.0.tar.gz PackageFileSize: 10.54 MiB