Package: CytoML Version: 2.16.0 Command: /home/biocbuild/bbs-3.19-bioc/R/bin/R CMD check --install=check:CytoML.install-out.txt --library=/home/biocbuild/bbs-3.19-bioc/R/site-library --timings CytoML_2.16.0.tar.gz StartedAt: 2024-10-16 23:24:27 -0400 (Wed, 16 Oct 2024) EndedAt: 2024-10-16 23:27:40 -0400 (Wed, 16 Oct 2024) EllapsedTime: 192.4 seconds RetCode: 0 Status: WARNINGS CheckDir: CytoML.Rcheck Warnings: 5