Package: CytoML Version: 2.16.0 Command: /home/biocbuild/bbs-3.19-bioc/R/bin/R CMD build --keep-empty-dirs --no-resave-data CytoML StartedAt: 2024-10-16 18:03:48 -0400 (Wed, 16 Oct 2024) EndedAt: 2024-10-16 18:05:15 -0400 (Wed, 16 Oct 2024) EllapsedTime: 87.2 seconds RetCode: 0 Status: OK PackageFile: CytoML_2.16.0.tar.gz PackageFileSize: 7.905 MiB