Package: CytoML Version: 2.16.0 Command: rm -rf CytoML.buildbin-libdir && mkdir CytoML.buildbin-libdir && /Users/biocbuild/BBS/utils/build-universal.sh CytoML_2.16.0.tar.gz /Library/Frameworks/R.framework/Resources/bin/R CytoML.buildbin-libdir StartedAt: 2024-10-17 15:58:13 -0400 (Thu, 17 Oct 2024) EndedAt: 2024-10-17 16:00:43 -0400 (Thu, 17 Oct 2024) EllapsedTime: 149.8 seconds RetCode: 0 Status: OK PackageFile: CytoML_2.16.0.tgz PackageFileSize: 9.571 MiB