Package: CytoML Version: 2.16.0 Command: /Library/Frameworks/R.framework/Resources/bin/R CMD build --keep-empty-dirs --no-resave-data CytoML StartedAt: 2024-10-16 22:38:35 -0400 (Wed, 16 Oct 2024) EndedAt: 2024-10-16 22:40:14 -0400 (Wed, 16 Oct 2024) EllapsedTime: 99.0 seconds RetCode: 0 Status: OK PackageFile: CytoML_2.16.0.tar.gz PackageFileSize: 8.572 MiB