Package: CytoMDS Version: 1.0.0 Command: /home/biocbuild/bbs-3.19-bioc/R/bin/R CMD check --install=check:CytoMDS.install-out.txt --library=/home/biocbuild/bbs-3.19-bioc/R/site-library --timings CytoMDS_1.0.0.tar.gz StartedAt: 2024-10-16 23:23:49 -0400 (Wed, 16 Oct 2024) EndedAt: 2024-10-16 23:31:08 -0400 (Wed, 16 Oct 2024) EllapsedTime: 438.8 seconds RetCode: 0 Status: OK CheckDir: CytoMDS.Rcheck Warnings: 0