Package: CytoMDS Version: 1.0.0 Command: /Library/Frameworks/R.framework/Resources/bin/R CMD INSTALL CytoMDS StartedAt: 2024-06-09 17:08:10 -0400 (Sun, 09 Jun 2024) EndedAt: 2024-06-09 17:08:33 -0400 (Sun, 09 Jun 2024) EllapsedTime: 22.4 seconds RetCode: 0 Status: OK