Package: CytoGLMM Version: 1.12.0 Command: chmod a+r CytoGLMM -R && E:\biocbuild\bbs-3.19-bioc\R\bin\R.exe CMD build --keep-empty-dirs --no-resave-data CytoGLMM StartedAt: 2024-10-16 18:30:01 -0400 (Wed, 16 Oct 2024) EndedAt: 2024-10-16 18:32:20 -0400 (Wed, 16 Oct 2024) EllapsedTime: 139.2 seconds RetCode: 0 Status: OK PackageFile: CytoGLMM_1.12.0.tar.gz PackageFileSize: 294.9 KiB