Package: CytoGLMM Version: 1.12.0 Command: rm -rf CytoGLMM.buildbin-libdir && mkdir CytoGLMM.buildbin-libdir && E:\biocbuild\bbs-3.19-bioc\R\bin\R.exe CMD INSTALL --build --library=CytoGLMM.buildbin-libdir CytoGLMM_1.12.0.tar.gz StartedAt: 2024-10-17 07:37:47 -0400 (Thu, 17 Oct 2024) EndedAt: 2024-10-17 07:38:11 -0400 (Thu, 17 Oct 2024) EllapsedTime: 24.4 seconds RetCode: 0 Status: OK PackageFile: CytoGLMM_1.12.0.zip PackageFileSize: 381.8 KiB