Package: CytoGLMM Version: 1.12.0 Command: chmod a+r CytoGLMM -R && F:\biocbuild\bbs-3.19-bioc\R\bin\R.exe CMD build --keep-empty-dirs --no-resave-data CytoGLMM StartedAt: 2024-06-26 18:08:15 -0400 (Wed, 26 Jun 2024) EndedAt: 2024-06-26 18:10:29 -0400 (Wed, 26 Jun 2024) EllapsedTime: 133.8 seconds RetCode: 0 Status: OK PackageFile: CytoGLMM_1.12.0.tar.gz PackageFileSize: 295.2 KiB