Package: CytoGLMM Version: 1.12.0 Command: /home/biocbuild/bbs-3.19-bioc/R/bin/R CMD INSTALL CytoGLMM StartedAt: 2024-10-16 16:45:38 -0400 (Wed, 16 Oct 2024) EndedAt: 2024-10-16 16:45:51 -0400 (Wed, 16 Oct 2024) EllapsedTime: 13.1 seconds RetCode: 0 Status: OK