Package: CytoGLMM Version: 1.12.0 Command: rm -rf CytoGLMM.buildbin-libdir && mkdir CytoGLMM.buildbin-libdir && /Users/biocbuild/BBS/utils/build-universal.sh CytoGLMM_1.12.0.tar.gz /Library/Frameworks/R.framework/Resources/bin/R CytoGLMM.buildbin-libdir StartedAt: 2024-10-17 15:58:06 -0400 (Thu, 17 Oct 2024) EndedAt: 2024-10-17 15:58:40 -0400 (Thu, 17 Oct 2024) EllapsedTime: 33.9 seconds RetCode: 0 Status: OK PackageFile: CytoGLMM_1.12.0.tgz PackageFileSize: 430 KiB