Package: CytoGLMM Version: 1.12.0 Command: /home/biocbuild/R/R-beta-2024-04-15_r86425/bin/R CMD INSTALL CytoGLMM StartedAt: 2024-05-08 21:05:19 -0000 (Wed, 08 May 2024) EndedAt: 2024-05-08 21:05:36 -0000 (Wed, 08 May 2024) EllapsedTime: 17.2 seconds RetCode: 0 Status: OK