Package: CytoGLMM Version: 1.12.0 Command: /home/biocbuild/R/R-beta-2024-04-15_r86425/bin/R CMD check --install=check:CytoGLMM.install-out.txt --library=/home/biocbuild/R/R-beta-2024-04-15_r86425/site-library --no-vignettes --timings CytoGLMM_1.12.0.tar.gz StartedAt: 2024-05-09 06:26:22 -0000 (Thu, 09 May 2024) EndedAt: 2024-05-09 06:28:58 -0000 (Thu, 09 May 2024) EllapsedTime: 156.3 seconds RetCode: 0 Status: OK CheckDir: CytoGLMM.Rcheck Warnings: 0