Package: CytoGLMM Version: 1.12.0 Command: /home/biocbuild/R/R-beta-2024-04-15_r86425/bin/R CMD build --keep-empty-dirs --no-resave-data CytoGLMM StartedAt: 2024-05-08 23:40:52 -0000 (Wed, 08 May 2024) EndedAt: 2024-05-08 23:43:35 -0000 (Wed, 08 May 2024) EllapsedTime: 163.2 seconds RetCode: 0 Status: OK PackageFile: CytoGLMM_1.12.0.tar.gz PackageFileSize: 326.4 KiB