Package: CytoGLMM Version: 1.12.0 Command: /Library/Frameworks/R.framework/Resources/bin/R CMD INSTALL CytoGLMM StartedAt: 2024-06-09 17:40:54 -0400 (Sun, 09 Jun 2024) EndedAt: 2024-06-09 17:41:14 -0400 (Sun, 09 Jun 2024) EllapsedTime: 19.7 seconds RetCode: 0 Status: OK