Package: CytoGLMM Version: 1.12.0 Command: /Library/Frameworks/R.framework/Resources/bin/R CMD build --keep-empty-dirs --no-resave-data CytoGLMM StartedAt: 2024-06-09 20:10:58 -0400 (Sun, 09 Jun 2024) EndedAt: 2024-06-09 20:14:13 -0400 (Sun, 09 Jun 2024) EllapsedTime: 195.3 seconds RetCode: 0 Status: OK PackageFile: CytoGLMM_1.12.0.tar.gz PackageFileSize: 338.6 KiB