Package: CytoGLMM Version: 1.12.0 Command: rm -rf CytoGLMM.buildbin-libdir && mkdir CytoGLMM.buildbin-libdir && /Users/biocbuild/BBS/utils/build-universal.sh CytoGLMM_1.12.0.tar.gz /Library/Frameworks/R.framework/Resources/bin/R CytoGLMM.buildbin-libdir StartedAt: 2024-06-11 10:49:21 -0400 (Tue, 11 Jun 2024) EndedAt: 2024-06-11 10:49:49 -0400 (Tue, 11 Jun 2024) EllapsedTime: 28.0 seconds RetCode: 0 Status: OK PackageFile: CytoGLMM_1.12.0.tgz PackageFileSize: 422.6 KiB