Package: CytoGLMM Version: 1.12.0 Command: /Library/Frameworks/R.framework/Resources/bin/R CMD INSTALL CytoGLMM StartedAt: 2024-10-16 18:54:59 -0400 (Wed, 16 Oct 2024) EndedAt: 2024-10-16 18:55:15 -0400 (Wed, 16 Oct 2024) EllapsedTime: 16.1 seconds RetCode: 0 Status: OK