Package: CytoDx Version: 1.24.0 Command: E:\biocbuild\bbs-3.19-bioc\R\bin\R.exe CMD INSTALL CytoDx StartedAt: 2024-10-16 17:09:20 -0400 (Wed, 16 Oct 2024) EndedAt: 2024-10-16 17:09:36 -0400 (Wed, 16 Oct 2024) EllapsedTime: 16.4 seconds RetCode: 0 Status: OK