Package: CytoDx Version: 1.24.0 Command: F:\biocbuild\bbs-3.19-bioc\R\bin\R.exe CMD INSTALL CytoDx StartedAt: 2024-06-26 16:41:15 -0400 (Wed, 26 Jun 2024) EndedAt: 2024-06-26 16:41:33 -0400 (Wed, 26 Jun 2024) EllapsedTime: 18.0 seconds RetCode: 0 Status: OK