Package: CytoDx Version: 1.24.0 Command: chmod a+r CytoDx -R && F:\biocbuild\bbs-3.19-bioc\R\bin\R.exe CMD build --keep-empty-dirs --no-resave-data CytoDx StartedAt: 2024-06-26 18:07:33 -0400 (Wed, 26 Jun 2024) EndedAt: 2024-06-26 18:08:01 -0400 (Wed, 26 Jun 2024) EllapsedTime: 28.3 seconds RetCode: 0 Status: OK PackageFile: CytoDx_1.24.0.tar.gz PackageFileSize: 662.7 KiB