Package: CytoDx Version: 1.24.0 Command: /home/biocbuild/bbs-3.19-bioc/R/bin/R CMD INSTALL CytoDx StartedAt: 2024-10-16 16:36:44 -0400 (Wed, 16 Oct 2024) EndedAt: 2024-10-16 16:36:55 -0400 (Wed, 16 Oct 2024) EllapsedTime: 10.9 seconds RetCode: 0 Status: OK