Package: CytoDx Version: 1.24.0 Command: /home/biocbuild/bbs-3.19-bioc/R/bin/R CMD build --keep-empty-dirs --no-resave-data CytoDx StartedAt: 2024-10-16 18:02:45 -0400 (Wed, 16 Oct 2024) EndedAt: 2024-10-16 18:03:05 -0400 (Wed, 16 Oct 2024) EllapsedTime: 20.0 seconds RetCode: 0 Status: OK PackageFile: CytoDx_1.24.0.tar.gz PackageFileSize: 661.9 KiB