Package: CytoDx Version: 1.24.0 Command: /Library/Frameworks/R.framework/Resources/bin/R CMD INSTALL CytoDx StartedAt: 2024-10-16 16:32:57 -0400 (Wed, 16 Oct 2024) EndedAt: 2024-10-16 16:33:23 -0400 (Wed, 16 Oct 2024) EllapsedTime: 26.5 seconds RetCode: 0 Status: OK