Package: CytoDx Version: 1.24.0 Command: /Library/Frameworks/R.framework/Resources/bin/R CMD build --keep-empty-dirs --no-resave-data CytoDx StartedAt: 2024-10-16 18:24:20 -0400 (Wed, 16 Oct 2024) EndedAt: 2024-10-16 18:25:18 -0400 (Wed, 16 Oct 2024) EllapsedTime: 58.4 seconds RetCode: 0 Status: OK PackageFile: CytoDx_1.24.0.tar.gz PackageFileSize: 661.4 KiB