Package: CytoDx Version: 1.24.0 Command: rm -rf CytoDx.buildbin-libdir && mkdir CytoDx.buildbin-libdir && /Users/biocbuild/BBS/utils/build-universal.sh CytoDx_1.24.0.tar.gz /Library/Frameworks/R.framework/Resources/bin/R CytoDx.buildbin-libdir StartedAt: 2024-10-17 15:57:52 -0400 (Thu, 17 Oct 2024) EndedAt: 2024-10-17 15:58:22 -0400 (Thu, 17 Oct 2024) EllapsedTime: 30.3 seconds RetCode: 0 Status: OK PackageFile: CytoDx_1.24.0.tgz PackageFileSize: 516.3 KiB